BEGIN:VCALENDAR
PRODID:-//SIMsKultur.net//iCal Class MIMEDIR//EN
VERSION:2.0
METHOD:PUBLISH
BEGIN:VEVENT
DTSTART:20260725T173000Z
DTEND:20260725T183000Z
LOCATION;LANGUAGE=de:Karl Kislinger-Platz 6, 2560 Berndorf
TRANSP:OPAQUE
SEQUENCE:0
UID:039da0d9bbd1950246370a29015f345c
DTSTAMP:20260424T073600Z
DESCRIPTION;LANGUAGE=de:Gerüchte … Gerüchte: Als Hauptproduktion steht 2026 der Komödienhit „Gerüchte…Gerüchte“ von Neil Simon auf dem Spielplan. Das Stück ist ein Klassiker der modernen Komödie und verspricht turbulente und skurrile Situationen auf der Bühne, bei denen kein Auge trocken bleibt.

Stadttheater Berndorf
Karl Kislinger-Platz 6, 2560 Berndorf
i: http://www.buehnen-berndorf.at/
t: +43 2672 82253-43
e: office@buehnen-berndorf.at

Ein Service von Kultur.net. http://www.simskultur.net
SUMMARY;LANGUAGE=de:Gerüchte … Gerüchte
PRIORITY:5
CLASS:PUBLIC
URL:https://kultur.net/stadttheater-berndorf/programm/geruechte-geruechte
STATUS:CONFIRMED
END:VEVENT
END:VCALENDAR
