BEGIN:VCALENDAR
PRODID:-//SIMsKultur.net//iCal Class MIMEDIR//EN
VERSION:2.0
METHOD:PUBLISH
BEGIN:VEVENT
DTSTART:20260808T163000Z
DTEND:20260808T173000Z
LOCATION;LANGUAGE=de:Krumpöckallee 21, 3550 Langenlois
TRANSP:OPAQUE
SEQUENCE:0
UID:7cdfd17117464104c4fc7897e81501f1
DTSTAMP:20260423T024300Z
DESCRIPTION;LANGUAGE=de:Hello, Dolly!: Nach dreißig Operettensommern bieten die Festspiele in Langenlois mit Hello, Dolly! erstmals ein klassisches Musical. Der Horizont der musikalischen Komödien vor Schloss Haindorf wird damit um eine der populärsten „musical comedies“ überhaupt erweitert. Also nicht Wien, sondern New York um 1900 ist der Schauplatz des Stückes, das aber durchaus wienerische Wurzeln aufweist:

Schloss Haindorf
Krumpöckallee 21, 3550 Langenlois
i: http://www.haindorf.at/
t: +43 2734 2693
e: office@haindorf.at

Ein Service von Kultur.net. http://www.simskultur.net
SUMMARY;LANGUAGE=de:Hello, Dolly!
PRIORITY:5
CLASS:PUBLIC
URL:https://kultur.net/schloss-haindorf/programm/hello-dolly
STATUS:CONFIRMED
END:VEVENT
END:VCALENDAR
