BEGIN:VCALENDAR
PRODID:-//SIMsKultur.net//iCal Class MIMEDIR//EN
VERSION:2.0
METHOD:PUBLISH
BEGIN:VEVENT
DTSTART:20260801T180000Z
DTEND:20260801T190000Z
LOCATION;LANGUAGE=de:Krumpöckallee 21, 3550 Langenlois
TRANSP:OPAQUE
SEQUENCE:0
UID:27cdcb8ad9f05334d11078a05d714215
DTSTAMP:20260423T093200Z
DESCRIPTION;LANGUAGE=de:Hello, Dolly!: Nach dreißig Operettensommern bieten die Festspiele in Langenlois mit Hello, Dolly! erstmals ein klassisches Musical. Der Horizont der musikalischen Komödien vor Schloss Haindorf wird damit um eine der populärsten „musical comedies“ überhaupt erweitert. Also nicht Wien, sondern New York um 1900 ist der Schauplatz des Stückes, das aber durchaus wienerische Wurzeln aufweist:

Schloss Haindorf
Krumpöckallee 21, 3550 Langenlois
i: http://www.haindorf.at/
t: +43 2734 2693
e: office@haindorf.at

Ein Service von Kultur.net. http://www.simskultur.net
SUMMARY;LANGUAGE=de:Hello, Dolly!
PRIORITY:5
CLASS:PUBLIC
URL:https://kultur.net/schloss-haindorf/programm/hello-dolly
STATUS:CONFIRMED
END:VEVENT
END:VCALENDAR
