BEGIN:VCALENDAR
PRODID:-//SIMsKultur.net//iCal Class MIMEDIR//EN
VERSION:2.0
METHOD:PUBLISH
BEGIN:VEVENT
DTSTART:20260728T180000Z
DTEND:20260728T190000Z
LOCATION;LANGUAGE=de:Am Schlossberg, 3571 Gars am Kamp
TRANSP:OPAQUE
SEQUENCE:0
UID:13b42ab3736743e534648f5c3ee9ef11
DTSTAMP:20260422T134500Z
DESCRIPTION;LANGUAGE=de:Madama Butterfly: Oper von Giacomo Puccini - Wenn über den historischen Mauern der Burg Gars die Sonne langsam untergeht und das Waldviertel in magisches Licht taucht, entfaltet sich im Sommer 2026 eine der bewegendsten Opern der Musikgeschichte: „Madama Butterfly” ist die zutiefst berührende Geschichte über Hoffnung, Liebe und das bittere Erwachen einer Frau zwischen zwei Welten.

Burg Gars - Babenberger Burgruine
Am Schlossberg, 3571 Gars am Kamp
i: 
t: 

Ein Service von Kultur.net. http://www.simskultur.net
SUMMARY;LANGUAGE=de:Madama Butterfly
PRIORITY:5
CLASS:PUBLIC
URL:https://kultur.net/burg-gars-babenberger-burgruine/programm/madama-butterfly
STATUS:CONFIRMED
END:VEVENT
END:VCALENDAR
