BEGIN:VCALENDAR
PRODID:-//SIMsKultur.net//iCal Class MIMEDIR//EN
VERSION:2.0
METHOD:PUBLISH
BEGIN:VEVENT
DTSTART:20260816T180000Z
DTEND:20260816T190000Z
LOCATION;LANGUAGE=de:Felsenbühne 1, 2134 Staatz-Kautendorf
TRANSP:OPAQUE
SEQUENCE:0
UID:13dac0f97780ed8878e78ed0e846e259
DTSTAMP:20260422T185000Z
DESCRIPTION;LANGUAGE=de:Musical unter Sternen 2026: Die große Open Air Musicalgala – aufgrund der großen Nachfrage im Sommer 2026 zweimal am Programm! Bereits zum dreizehnten Mal präsentiert Werner Auer in der imposanten Kulisse am Fuße des Staatzer Berges gemeinsam mit Solistinnen und Solisten der „GHOST“-Produktion und dem großen Orchester der Felsenbühne Staatz unter der Leitung von Gregor Sommer die schönsten Melodien aus Musicals wie LES MISÉRABLES, TANZ DER VAMPIRE, ELISABETH, JEKYLL & HYDE, THE SCARLET PIMPERNEL, EVITA, WEST SIDE STORY, DIE SCHÖNE UND DAS BIEST, und vielen anderen…

Felsenbühne Staatz - Felsenbühne 1
Felsenbühne 1, 2134 Staatz-Kautendorf
i: https://www.felsenbuehne-staatz.at/
t: +43 676 4622050
e: felsenbuehne.staatz@aon.at

Ein Service von Kultur.net. http://www.simskultur.net
SUMMARY;LANGUAGE=de:Musical unter Sternen 2026
PRIORITY:5
CLASS:PUBLIC
URL:https://kultur.net/felsenbuehne-staatz-felsenbuehne-1/programm/musical-unter-sternen-2026
STATUS:CONFIRMED
END:VEVENT
END:VCALENDAR
