BEGIN:VCALENDAR
PRODID:-//SIMsKultur.net//iCal Class MIMEDIR//EN
VERSION:2.0
METHOD:PUBLISH
BEGIN:VEVENT
DTSTART:20260712T140000Z
DTEND:20260712T150000Z
LOCATION;LANGUAGE=de:Schloß Weitra 71, 3970 Weitra
TRANSP:OPAQUE
SEQUENCE:0
UID:c92fbb8e4e5daa226db766e724946fda
DTSTAMP:20260424T060700Z
DESCRIPTION;LANGUAGE=de:Der böse Geist Lumpazivagabundus: Eine musikalische Komödie von Peter Hofbauer frei nach Johann Nestroy. Musik von Carl Michael Ziehrer. 2026 erweckt Peter Hofbauer Johann Nestroys Zauberposse Lumpazivagabundus zu neuem Leben und verwandelt sie in eine Inszenierung, die an den Erfolg von "Liebesgeschichten & Heiratssachen" anknüpft. Diese moderne Form verbindet den Zauber der Musik mit der befreienden Lust am Lachen und steht somit ganz auf der Höhe der Zeit.

Schloss Weitra
Schloß Weitra 71, 3970 Weitra
i: www.schloss-weitra.at
t: +43 2856 3311
e: info@schloss-weitra.at

Ein Service von Kultur.net. http://www.simskultur.net
SUMMARY;LANGUAGE=de:Der böse Geist Lumpazivagabundus
PRIORITY:5
CLASS:PUBLIC
URL:https://kultur.net/schloss-weitra/programm/der-boese-geist-lumpazivagabundus
STATUS:CONFIRMED
END:VEVENT
END:VCALENDAR
