BEGIN:VCALENDAR
PRODID:-//SIMsKultur.net//iCal Class MIMEDIR//EN
VERSION:2.0
METHOD:PUBLISH
BEGIN:VEVENT
DTSTART:20260801T173000Z
DTEND:20260801T183000Z
LOCATION;LANGUAGE=de:Stadionstraße 12, 3300 Amstetten
TRANSP:OPAQUE
SEQUENCE:0
UID:7fd29f6300bfc6bd8cfaf12671fa2fdf
DTSTAMP:20260422T162600Z
DESCRIPTION;LANGUAGE=de:THE BAND: Musical mit Musik von Take That, Buch von Tim Firth - Mit über 45 Millionen verkauften Alben, unzähligen Hits und legendären Live-Auftritten gehört Take That zu den erfolgreichsten Popbands aller Zeiten. Die Story von Tim Firth ist eine berührende und humorvolle Geschichte über fünf Freundinnen, die in ihrer Jugend von Take That schwärmten – und sich 25 Jahre später wiederfinden, um ihre gemeinsame Leidenschaft neu zu entdecken.

Pölz-Halle Amstetten
Stadionstraße 12, 3300 Amstetten
i: www.avb.amstetten.at
t: +43 7472 601543
e: avb@amstetten.at

Ein Service von Kultur.net. http://www.simskultur.net
SUMMARY;LANGUAGE=de:THE BAND
PRIORITY:5
CLASS:PUBLIC
URL:https://kultur.net/poelz-halle-amstetten/programm/the-band
STATUS:CONFIRMED
END:VEVENT
END:VCALENDAR
