BEGIN:VCALENDAR
PRODID:-//SIMsKultur.net//iCal Class MIMEDIR//EN
VERSION:2.0
METHOD:PUBLISH
BEGIN:VEVENT
DTSTART:20260506T173000Z
DTEND:20260506T183000Z
LOCATION;LANGUAGE=de:Seestraße 2, 6900 Bregenz
TRANSP:OPAQUE
SEQUENCE:0
UID:64c81de02c7edb02e3cfbcdc29ff68ce
DTSTAMP:20260425T193100Z
DESCRIPTION;LANGUAGE=de:COLOURS - Ein bunter Abend von Hirzel & Rath: In ihrem dritten Liederabend wird’s bunt. Luzian Hirzel und Oliver Rath spielen Songs zum Thema Farben. Von Amy Winehouse bis Element of Crime, von Purple Rain bis Yellow. Und als wäre das nicht schon genug, werden die beiden diesmal unterstützt vom Schlagzeuger Martin Grabher.

Vorarlberger Landestheater
Seestraße 2, 6900 Bregenz
i: https://landestheater.org/
t: +43 5574 42870600 
e: info@landestheater.org

Ein Service von Kultur.net. http://www.simskultur.net
SUMMARY;LANGUAGE=de:COLOURS - Ein bunter Abend von Hirzel & Rath
PRIORITY:5
CLASS:PUBLIC
URL:https://kultur.net/vorarlberger-landestheater/programm/colours-ein-bunter-abend-von-hirzel-rath
STATUS:CONFIRMED
END:VEVENT
END:VCALENDAR
