BEGIN:VCALENDAR
PRODID:-//SIMsKultur.net//iCal Class MIMEDIR//EN
VERSION:2.0
METHOD:PUBLISH
BEGIN:VEVENT
DTSTART:20260419T150000Z
DTEND:20260419T160000Z
LOCATION;LANGUAGE=de:Seestraße 2, 6900 Bregenz
TRANSP:OPAQUE
SEQUENCE:0
UID:444981bce2a62a51079f25060340ebff
DTSTAMP:20260420T041200Z
DESCRIPTION;LANGUAGE=de:BACHMANN RELOADED - Songs über 15 Gedichte von Ingeborg Bachmann: Liederabend - Ein Abend zwischen Chanson und Avantgarde, jedes Gedicht ein eigener musikalischer Ort.

Vorarlberger Landestheater
Seestraße 2, 6900 Bregenz
i: https://landestheater.org/
t: +43 5574 42870600 
e: info@landestheater.org

Ein Service von Kultur.net. http://www.simskultur.net
SUMMARY;LANGUAGE=de:BACHMANN RELOADED - Songs über 15 Gedichte von Ingeborg Bachmann
PRIORITY:5
CLASS:PUBLIC
URL:https://kultur.net/vorarlberger-landestheater/programm/bachmann-reloaded-songs-ueber-15-gedichte-von-ingeborg-bachmann
STATUS:CONFIRMED
END:VEVENT
END:VCALENDAR
