BEGIN:VCALENDAR
PRODID:-//SIMsKultur.net//iCal Class MIMEDIR//EN
VERSION:2.0
METHOD:PUBLISH
BEGIN:VEVENT
DTSTART:20260523T163000Z
DTEND:20260523T173000Z
LOCATION;LANGUAGE=de:Mühlgasse 7a, 3943 Schrems
TRANSP:OPAQUE
SEQUENCE:0
UID:5a61147749afac8ac44f02ebfdb8b1a4
DTSTAMP:20260422T191300Z
DESCRIPTION;LANGUAGE=de:Das Amadeus Trio zu Gast im Kunstmuseum: Im Rahmen der Ausstellung „Magie des Schönen, Warlamis – Mozart“ präsentiert das AMADEUS TRIO ausgewählte Werke von W. A. Mozart und Zeitgenossen. Die drei international renommierten Solisten konzertieren auf den Bühnen der Welt. 2020 gründeten sie das Amadeus Trio aus dem Bedürfnis, eine besondere gemeinsame musikalische Verbundenheit und Kommunikation mit dem Publikum herzustellen.

Das Kunstmuseum Waldviertel
Mühlgasse 7a, 3943 Schrems
i: https://daskunstmuseum.at/
t: +43 2853 72888-0
e: info@daskunstmuseum.at

Ein Service von Kultur.net. http://www.simskultur.net
SUMMARY;LANGUAGE=de:Das Amadeus Trio zu Gast im Kunstmuseum
PRIORITY:5
CLASS:PUBLIC
URL:https://kultur.net/das-kunstmuseum-waldviertel/programm/das-amadeus-trio-zu-gast-im-kunstmuseum
STATUS:CONFIRMED
END:VEVENT
END:VCALENDAR
