BEGIN:VCALENDAR
PRODID:-//SIMsKultur.net//iCal Class MIMEDIR//EN
VERSION:2.0
METHOD:PUBLISH
BEGIN:VEVENT
DTSTART:20260516T120000Z
DTEND:20260516T130000Z
LOCATION;LANGUAGE=de:Mühlgasse 7a, 3943 Schrems
TRANSP:OPAQUE
SEQUENCE:0
UID:0be0a56ca085132083478100a3a46701
DTSTAMP:20260424T135400Z
DESCRIPTION;LANGUAGE=de:Erwachsenen und Jugend Keramik Kurs „Alles für den Garten“: Originelle Pflanzgefäße und Dekorationen im passenden Design zum eigenen Garten oder Haus können in diesem Keramikworkshop für Erwachsene und Jugendliche im Atelier des Kunstmuseums geformt und mit Keramikglasuren bemalt werden.

Das Kunstmuseum Waldviertel
Mühlgasse 7a, 3943 Schrems
i: https://daskunstmuseum.at/
t: +43 2853 72888-0
e: info@daskunstmuseum.at

Ein Service von Kultur.net. http://www.simskultur.net
SUMMARY;LANGUAGE=de:Erwachsenen und Jugend Keramik Kurs „Alles für den Garten“
PRIORITY:5
CLASS:PUBLIC
URL:https://kultur.net/das-kunstmuseum-waldviertel/programm/erwachsenen-und-jugend-keramik-kurs-alles-fuer-den-garten
STATUS:CONFIRMED
END:VEVENT
END:VCALENDAR
