BEGIN:VCALENDAR
PRODID:-//SIMsKultur.net//iCal Class MIMEDIR//EN
VERSION:2.0
METHOD:PUBLISH
BEGIN:VEVENT
DTSTART:20260728T080000Z
DTEND:20260728T090000Z
LOCATION;LANGUAGE=de:Karl-Tizian-Platz, 6900 Bregenz
TRANSP:OPAQUE
SEQUENCE:0
UID:dec3d77602ed1a13f80a9bdc0b375978
DTSTAMP:20260424T104700Z
DESCRIPTION;LANGUAGE=de:Experimentierwerkstatt: Gemeinsam mit Munari-Pädagoge Marco Ceroli lassen die Kinder ihrer Kreativität freien Lauf! Es wird gemalt, geformt und gebaut. Am Ende der Woche präsentiert das Haus die entstandenen Kunstwerke in einer eigenen Ausstellung.

Kunsthaus Bregenz
Karl-Tizian-Platz, 6900 Bregenz
i: https://www.kunsthaus-bregenz.at/
t: +43 5574 48594-433
e: kub@kunsthaus-bregenz.at

Ein Service von Kultur.net. http://www.simskultur.net
SUMMARY;LANGUAGE=de:Experimentierwerkstatt
PRIORITY:5
CLASS:PUBLIC
URL:https://kultur.net/kunsthaus-bregenz/programm/experimentierwerkstatt
STATUS:CONFIRMED
END:VEVENT
END:VCALENDAR
