BEGIN:VCALENDAR
PRODID:-//SIMsKultur.net//iCal Class MIMEDIR//EN
VERSION:2.0
METHOD:PUBLISH
BEGIN:VEVENT
DTSTART:20260814T220000Z
LOCATION;LANGUAGE=de:Karl-Tizian-Platz, 6900 Bregenz
TRANSP:OPAQUE
SEQUENCE:0
UID:c9d8bea4460d6c9a571c1ce5f18fb2da
DTSTAMP:20260423T092300Z
DESCRIPTION;LANGUAGE=de:Cyprien Gaillard: Cyprien Gaillard verbindet Skulptur, Architektur, Video, Fotografie und Soundkunst zu komplexen Werken. Seine Themen kreisen um Jugendkultur, urbane Entwicklung, die Wahrnehmung von Natur und die Lebensformen des Modernismus. Dabei versteht er sich weniger als Autor, sondern als Beobachter bestehender Strukturen — seien es Bauten der Nachkriegsmoderne oder stereotype Verhaltensmuster von Jugendlichen.

Kunsthaus Bregenz
Karl-Tizian-Platz, 6900 Bregenz
i: https://www.kunsthaus-bregenz.at/
t: +43 5574 48594-433
e: kub@kunsthaus-bregenz.at

Ein Service von Kultur.net. http://www.simskultur.net
SUMMARY;LANGUAGE=de:Cyprien Gaillard
PRIORITY:5
CLASS:PUBLIC
URL:https://kultur.net/kunsthaus-bregenz/programm/cyprien-gaillard
STATUS:CONFIRMED
END:VEVENT
END:VCALENDAR
