BEGIN:VCALENDAR
PRODID:-//SIMsKultur.net//iCal Class MIMEDIR//EN
VERSION:2.0
METHOD:PUBLISH
BEGIN:VEVENT
DTSTART:20260513T220000Z
LOCATION;LANGUAGE=de:Karl-Tizian-Platz, 6900 Bregenz
TRANSP:OPAQUE
SEQUENCE:0
UID:0f513bbb0501657324cb2f090023bd6d
DTSTAMP:20260425T210900Z
DESCRIPTION;LANGUAGE=de:KOO JEONG A - LAND OF OUSSS [ GRAVITTA ]: KOO JEONG A richtet den Blick auf das Beiläufige, auf jene Randzonen der Erfahrung, die sich erst im geduldigen Wahrnehmen öffnen. Unsichtbare Phänomene werden über Klänge, Gerüche und sparsame Gesten erfahrbar. Erfundenes und Gefundenes, Konkretes und Ungreifbares gleiten ohne feste Grenzen ineinander.

Kunsthaus Bregenz
Karl-Tizian-Platz, 6900 Bregenz
i: https://www.kunsthaus-bregenz.at/
t: +43 5574 48594-433
e: kub@kunsthaus-bregenz.at

Ein Service von Kultur.net. http://www.simskultur.net
SUMMARY;LANGUAGE=de:KOO JEONG A - LAND OF OUSSS [ GRAVITTA ]
PRIORITY:5
CLASS:PUBLIC
URL:https://kultur.net/kunsthaus-bregenz/programm/koo-jeong-a-land-of-ousss-gravitta
STATUS:CONFIRMED
END:VEVENT
END:VCALENDAR
