BEGIN:VCALENDAR
PRODID:-//SIMsKultur.net//iCal Class MIMEDIR//EN
VERSION:2.0
METHOD:PUBLISH
BEGIN:VEVENT
DTSTART:20260425T220000Z
LOCATION;LANGUAGE=de:Karl-Tizian-Platz, 6900 Bregenz
TRANSP:OPAQUE
SEQUENCE:0
UID:599fe1455f2d06398a10fa384f8a8e13
DTSTAMP:20260423T154500Z
DESCRIPTION;LANGUAGE=de:KOO JEONG A - LAND OF OUSSS [ GRAVITTA ]: KOO JEONG A richtet den Blick auf das Beiläufige, auf jene Randzonen der Erfahrung, die sich erst im geduldigen Wahrnehmen öffnen. Unsichtbare Phänomene werden über Klänge, Gerüche und sparsame Gesten erfahrbar. Erfundenes und Gefundenes, Konkretes und Ungreifbares gleiten ohne feste Grenzen ineinander.

Kunsthaus Bregenz
Karl-Tizian-Platz, 6900 Bregenz
i: https://www.kunsthaus-bregenz.at/
t: +43 5574 48594-433
e: kub@kunsthaus-bregenz.at

Ein Service von Kultur.net. http://www.simskultur.net
SUMMARY;LANGUAGE=de:KOO JEONG A - LAND OF OUSSS [ GRAVITTA ]
PRIORITY:5
CLASS:PUBLIC
URL:https://kultur.net/kunsthaus-bregenz/programm/koo-jeong-a-land-of-ousss-gravitta
STATUS:CONFIRMED
END:VEVENT
END:VCALENDAR
