BEGIN:VCALENDAR
PRODID:-//SIMsKultur.net//iCal Class MIMEDIR//EN
VERSION:2.0
METHOD:PUBLISH
BEGIN:VEVENT
DTSTART:20260422T100000Z
DTEND:20260422T110000Z
LOCATION;LANGUAGE=de:Hofgasse 11, 8010 Graz
TRANSP:OPAQUE
SEQUENCE:0
UID:edec6bfb57419b3ddd204fe0d5a54638
DTSTAMP:20260425T193200Z
DESCRIPTION;LANGUAGE=de:Secretly a dinosaur: Die Dinosaurier sind ausgestorben. Und gerade deshalb können sie uns erzählen, was es bedeutet, zusammenzuhalten, wenn die Welt untergeht. Wieso fühlen wir uns manchmal, als würde ein Asteroid einschlagen? Und wie können wir uns auch in Extremsituationen umeinander kümmern?

Schauspielhaus Graz - Schauraum
Hofgasse 11, 8010 Graz
i: www.schauspielhaus-graz.com
t: +43 316 8000
e: presse-sh@schauspielhaus-graz.com

Ein Service von Kultur.net. http://www.simskultur.net
SUMMARY;LANGUAGE=de:Secretly a dinosaur
PRIORITY:5
CLASS:PUBLIC
URL:https://kultur.net/schauspielhaus-graz-schauraum/programm/secretly-a-dinosaur
STATUS:CONFIRMED
END:VEVENT
END:VCALENDAR
