BEGIN:VCALENDAR
PRODID:-//SIMsKultur.net//iCal Class MIMEDIR//EN
VERSION:2.0
METHOD:PUBLISH
BEGIN:VEVENT
DTSTART:20260530T173000Z
DTEND:20260530T183000Z
LOCATION;LANGUAGE=de:Hofgasse 11, 8010 Graz
TRANSP:OPAQUE
SEQUENCE:0
UID:424d242fbf1e0a6b837c28fc6c4b9ee7
DTSTAMP:20260425T112600Z
DESCRIPTION;LANGUAGE=de:Das Orakel spricht: Uraufführung - Eine poptheatralische Sinnsuche nach der Graphic Novel von Liv Strömquist - Liv Strömquist zählt zu den einflussreichsten Comiczeichner:innen unserer Zeit. Unnachahmlich transferiert sie gesellschaftliche Diskurse in die Kunstform der Graphic Novel und verknüpft soziologische und philosophische Theorien mit popkulturellen Referenzen. Ihre Geschichten erzählt sie dabei mit einer ansteckenden Lust an der Zuspitzung.

Schauspielhaus Graz - Schauspielhaus
Hofgasse 11, 8010 Graz
i: www.schauspielhaus-graz.com
t: +43 316 8008 3212
e: presse-sh@schauspielhaus-graz.com

Ein Service von Kultur.net. http://www.simskultur.net
SUMMARY;LANGUAGE=de:Das Orakel spricht
PRIORITY:5
CLASS:PUBLIC
URL:https://kultur.net/schauspielhaus-graz-schauspielhaus/programm/das-orakel-spricht
STATUS:CONFIRMED
END:VEVENT
END:VCALENDAR
