BEGIN:VCALENDAR
PRODID:-//SIMsKultur.net//iCal Class MIMEDIR//EN
VERSION:2.0
METHOD:PUBLISH
BEGIN:VEVENT
DTSTART:20260414T173000Z
DTEND:20260414T183000Z
LOCATION;LANGUAGE=de:Hofgasse 11, 8010 Graz
TRANSP:OPAQUE
SEQUENCE:0
UID:2a80d4490e773b9e2a5705535a6dd552
DTSTAMP:20260422T134300Z
DESCRIPTION;LANGUAGE=de:Das Orakel spricht: Uraufführung - Eine poptheatralische Sinnsuche nach der Graphic Novel von Liv Strömquist - Liv Strömquist zählt zu den einflussreichsten Comiczeichner:innen unserer Zeit. Unnachahmlich transferiert sie gesellschaftliche Diskurse in die Kunstform der Graphic Novel und verknüpft soziologische und philosophische Theorien mit popkulturellen Referenzen. Ihre Geschichten erzählt sie dabei mit einer ansteckenden Lust an der Zuspitzung.

Schauspielhaus Graz - Schauspielhaus
Hofgasse 11, 8010 Graz
i: www.schauspielhaus-graz.com
t: +43 316 8008 3212
e: presse-sh@schauspielhaus-graz.com

Ein Service von Kultur.net. http://www.simskultur.net
SUMMARY;LANGUAGE=de:Das Orakel spricht
PRIORITY:5
CLASS:PUBLIC
URL:https://kultur.net/schauspielhaus-graz-schauspielhaus/programm/das-orakel-spricht
STATUS:CONFIRMED
END:VEVENT
END:VCALENDAR
