BEGIN:VCALENDAR
PRODID:-//SIMsKultur.net//iCal Class MIMEDIR//EN
VERSION:2.0
METHOD:PUBLISH
BEGIN:VEVENT
DTSTART:20260610T083000Z
DTEND:20260610T093000Z
LOCATION;LANGUAGE=de:Hofgasse 11, 8010 Graz
TRANSP:OPAQUE
SEQUENCE:0
UID:b11edcafca57c8a8ccc31e5893c83bcf
DTSTAMP:20260425T161300Z
DESCRIPTION;LANGUAGE=de:Frühere Verhältnisse | Von nun an ging’s bergab: Der wohlhabende Holzhändler Scheitermann und seine Frau Josephine suchen neue Dienstboten. Als Peppi Amsel, die bereits für Josephines Vater gearbeitet hat, sich bewirbt, wird sie sofort eingestellt. Auch der zweite Bewerber, Anton Muffl, ist ein alter Bekannter – diesmal vom Herrn des Hauses –, doch leider kennt Anton ein Geheimnis, das der erfolgreiche Geschäftsmann um jeden Preis wahren will: Seine früheren Verhältnisse sind nämlich weit weniger mondän, als er es gerne hätte.

Schauspielhaus Graz - Schauspielhaus
Hofgasse 11, 8010 Graz
i: www.schauspielhaus-graz.com
t: +43 316 8008 3212
e: presse-sh@schauspielhaus-graz.com

Ein Service von Kultur.net. http://www.simskultur.net
SUMMARY;LANGUAGE=de:Frühere Verhältnisse | Von nun an ging’s bergab
PRIORITY:5
CLASS:PUBLIC
URL:https://kultur.net/schauspielhaus-graz-schauspielhaus/programm/fruehere-verhaeltnisse-von-nun-an-ging-s-bergab
STATUS:CONFIRMED
END:VEVENT
END:VCALENDAR
