BEGIN:VCALENDAR
PRODID:-//SIMsKultur.net//iCal Class MIMEDIR//EN
VERSION:2.0
METHOD:PUBLISH
BEGIN:VEVENT
DTSTART:20260419T110000Z
DTEND:20260419T120000Z
LOCATION;LANGUAGE=de:Kaiser-Josef-Platz 10, 8010 Graz
TRANSP:OPAQUE
SEQUENCE:0
UID:2551699382c9ea9330ea209eea0b1007
DTSTAMP:20260426T020100Z
DESCRIPTION;LANGUAGE=de:Oper für alle – Alle für Oper: Chance, Öffnung und Veränderung durch inklusives Musiktheater - Mut verbindet die Performer:innen, die in der inklusiven Operettenproduktion Die drei Musketiere (Regie: Georg Schütky) zum ersten Mal zusammenarbeiten und dabei die Erfahrung teilen, unterschiedlichste Hürden überwinden zu müssen: Während die Sänger:innen sich in einem Beruf mit hohem Risiko behaupten müssen, sind die Spieler:innen der Theaterakademie LebensGroß gefordert, Grenzen in einer Welt zu durchbrechen, die nicht für sie ausgelegt ist.

Oper Graz
Kaiser-Josef-Platz 10, 8010 Graz
i: www.oper-graz.com
t: +43 316 8000
e: oper@oper-graz.at

Ein Service von Kultur.net. http://www.simskultur.net
SUMMARY;LANGUAGE=de:Oper für alle – Alle für Oper
PRIORITY:5
CLASS:PUBLIC
URL:https://kultur.net/oper-graz/programm/oper-fuer-alle-alle-fuer-oper
STATUS:CONFIRMED
END:VEVENT
END:VCALENDAR
