BEGIN:VCALENDAR
PRODID:-//SIMsKultur.net//iCal Class MIMEDIR//EN
VERSION:2.0
METHOD:PUBLISH
BEGIN:VEVENT
DTSTART:20260607T130000Z
DTEND:20260607T140000Z
LOCATION;LANGUAGE=de:Kaiser-Josef-Platz 10, 8010 Graz
TRANSP:OPAQUE
SEQUENCE:0
UID:af98c5a2a2ba5d6b3af433a20a0ad35f
DTSTAMP:20260422T010700Z
DESCRIPTION;LANGUAGE=de:Castor et Pollux: Vier Menschen, die durch die Hölle ihrer eigenen Gefühle gehen, sind das Zentrum von Jean-Philippe Rameaus Meisterwerk Castor et Pollux. Choreographin und Regisseurin Nanine Linning, dem Grazer Publikum bereits als Regisseurin des Giulietta-Akts von Hoffmanns Erzählungen in der Spielzeit 2023/24 bekannt, lässt die der französischen Barockoper immanenten Elemente Tanz und Musiktheater erneut ineinanderfließen.

Oper Graz
Kaiser-Josef-Platz 10, 8010 Graz
i: www.oper-graz.com
t: +43 316 8000
e: oper@oper-graz.at

Ein Service von Kultur.net. http://www.simskultur.net
SUMMARY;LANGUAGE=de:Castor et Pollux
PRIORITY:5
CLASS:PUBLIC
URL:https://kultur.net/oper-graz/programm/castor-et-pollux
STATUS:CONFIRMED
END:VEVENT
END:VCALENDAR
