BEGIN:VCALENDAR
PRODID:-//SIMsKultur.net//iCal Class MIMEDIR//EN
VERSION:2.0
METHOD:PUBLISH
BEGIN:VEVENT
DTSTART:20260426T130000Z
DTEND:20260426T140000Z
LOCATION;LANGUAGE=de:Kaiser-Josef-Platz 10, 8010 Graz
TRANSP:OPAQUE
SEQUENCE:0
UID:b25b3ec2625e2da323cecefa15fbc25d
DTSTAMP:20260423T121600Z
DESCRIPTION;LANGUAGE=de:Arizona Lady: Cowboys, Pferderennen und die ganz großen Gefühle! Das alles und mehr bringt die letzte, posthum uraufgeführte Operette Emmerich Kálmáns auf die Bühne der Oper Graz. In einer spannenden und gefühlvollen Inszenierung ist Kálmáns Westernoperette zum ersten Mal seit 1954 wieder in Graz zu erleben.

Oper Graz
Kaiser-Josef-Platz 10, 8010 Graz
i: www.oper-graz.com
t: +43 316 8000
e: oper@oper-graz.at

Ein Service von Kultur.net. http://www.simskultur.net
SUMMARY;LANGUAGE=de:Arizona Lady
PRIORITY:5
CLASS:PUBLIC
URL:https://kultur.net/oper-graz/programm/arizona-lady
STATUS:CONFIRMED
END:VEVENT
END:VCALENDAR
