BEGIN:VCALENDAR
PRODID:-//SIMsKultur.net//iCal Class MIMEDIR//EN
VERSION:2.0
METHOD:PUBLISH
BEGIN:VEVENT
DTSTART:20260630T170000Z
DTEND:20260630T180000Z
LOCATION;LANGUAGE=de:Währingerstraße 78, 1090 Wien
TRANSP:OPAQUE
SEQUENCE:0
UID:6ade2baca1c96242dc6d8d7c583a6e12
DTSTAMP:20260421T142400Z
DESCRIPTION;LANGUAGE=de:Die Fledermaus - Pride Edition: Ein queerer Blick auf "Die Fledermaus" im Pride Monat - In deutscher Sprache mit deutschen und englischen Übertiteln. Alljährlich im Juni wird im Pride Month die Sichtbarkeit queerer Kultur gefeiert, aber auch an den Kampf gegen Ausgrenzung und Diskriminierung erinnert. Pride ist Widerstand und Lebensfreude! Und welches Werk wäre besser geeignet, um anlässlich dieses Fests einen neuen Blick auf Erotik, Liebe und gesellschaftliche Erwartungen zu werfen als Johann Strauß’ Die Fledermaus?

Volksoper Wien
Währingerstraße 78, 1090 Wien
i: www.volksoper.at
t: +43 1 51444-3670
e: office@volksoper.at

Ein Service von Kultur.net. http://www.simskultur.net
SUMMARY;LANGUAGE=de:Die Fledermaus - Pride Edition
PRIORITY:5
CLASS:PUBLIC
URL:https://kultur.net/volksoper-wien/programm/die-fledermaus-pride-edition
STATUS:CONFIRMED
END:VEVENT
END:VCALENDAR
