BEGIN:VCALENDAR
PRODID:-//SIMsKultur.net//iCal Class MIMEDIR//EN
VERSION:2.0
METHOD:PUBLISH
BEGIN:VEVENT
DTSTART:20260515T170000Z
DTEND:20260515T180000Z
LOCATION;LANGUAGE=de:Währingerstraße 78, 1090 Wien
TRANSP:OPAQUE
SEQUENCE:0
UID:e940f60f629769eb6491e2c1352c9138
DTSTAMP:20260419T163400Z
DESCRIPTION;LANGUAGE=de:American Signatures: Jerome Robbins zählt zu den wichtigsten Ballettschöpfern des 20. Jahrhunderts und hat mit seinem unverkennbaren Stil den amerikanischen Tanz entscheidend geprägt. Interplay, seine zweite choreografische Arbeit, die 1945 in New York Premiere feierte, eröffnet schwungvoll den Vierteiler American Signatures, der Ikonen des Tanzes mit gegenwärtigen choreografischen Stimmen vereint.

Volksoper Wien
Währingerstraße 78, 1090 Wien
i: www.volksoper.at
t: +43 1 51444-3670
e: office@volksoper.at

Ein Service von Kultur.net. http://www.simskultur.net
SUMMARY;LANGUAGE=de:American Signatures
PRIORITY:5
CLASS:PUBLIC
URL:https://kultur.net/volksoper-wien/programm/american-signatures
STATUS:CONFIRMED
END:VEVENT
END:VCALENDAR
