BEGIN:VCALENDAR
PRODID:-//SIMsKultur.net//iCal Class MIMEDIR//EN
VERSION:2.0
METHOD:PUBLISH
BEGIN:VEVENT
DTSTART:20260512T170000Z
DTEND:20260512T180000Z
LOCATION;LANGUAGE=de:Währingerstraße 78, 1090 Wien
TRANSP:OPAQUE
SEQUENCE:0
UID:01ecb85501c586493261815fe1374e56
DTSTAMP:20260419T163400Z
DESCRIPTION;LANGUAGE=de:American Signatures: Jerome Robbins zählt zu den wichtigsten Ballettschöpfern des 20. Jahrhunderts und hat mit seinem unverkennbaren Stil den amerikanischen Tanz entscheidend geprägt. Interplay, seine zweite choreografische Arbeit, die 1945 in New York Premiere feierte, eröffnet schwungvoll den Vierteiler American Signatures, der Ikonen des Tanzes mit gegenwärtigen choreografischen Stimmen vereint.

Volksoper Wien
Währingerstraße 78, 1090 Wien
i: www.volksoper.at
t: +43 1 51444-3670
e: office@volksoper.at

Ein Service von Kultur.net. http://www.simskultur.net
SUMMARY;LANGUAGE=de:American Signatures
PRIORITY:5
CLASS:PUBLIC
URL:https://kultur.net/volksoper-wien/programm/american-signatures
STATUS:CONFIRMED
END:VEVENT
END:VCALENDAR
