BEGIN:VCALENDAR
PRODID:-//SIMsKultur.net//iCal Class MIMEDIR//EN
VERSION:2.0
METHOD:PUBLISH
BEGIN:VEVENT
DTSTART:20260508T170000Z
DTEND:20260508T180000Z
LOCATION;LANGUAGE=de:Obere Augartenstraße 1E, 1020 Wien
TRANSP:OPAQUE
SEQUENCE:0
UID:ae7c0c713220d4fd03599df02baeba5c
DTSTAMP:20260422T110800Z
DESCRIPTION;LANGUAGE=de:Titus: Nach Così fan tutte, der Abschlussproduktion des ersten Opernstudio-Jahrgangs der Volksoper, präsentiert sich der zweite Jahrgang des jungen Ensembles nun mit einem weiteren Repertoireklassiker im MuTh am Augarten. In einer eigenen, neu entworfenen Kammerfassung zeigt Regisseur Maurice Lenhard die Nahebeziehungen von Mozarts Oper zu aktuellen weltpolitischen Dynamiken und entwirft so einen zeitgenössischen Politthriller.

MuTh - Der Konzertsaal der Wiener Sängerknaben
Obere Augartenstraße 1E, 1020 Wien
i: http://www.muth.at/
t: +43 1 3478
e: office@muth.at

Ein Service von Kultur.net. http://www.simskultur.net
SUMMARY;LANGUAGE=de:Titus
PRIORITY:5
CLASS:PUBLIC
URL:https://kultur.net/muth-der-konzertsaal-der-wiener-saengerknaben/programm/titus
STATUS:CONFIRMED
END:VEVENT
END:VCALENDAR
