BEGIN:VCALENDAR
PRODID:-//SIMsKultur.net//iCal Class MIMEDIR//EN
VERSION:2.0
METHOD:PUBLISH
BEGIN:VEVENT
DTSTART:20260622T170000Z
DTEND:20260622T180000Z
LOCATION;LANGUAGE=de:Währingerstraße 78, 1090 Wien
TRANSP:OPAQUE
SEQUENCE:0
UID:091e49d148fcb2ca027e6aaddd845844
DTSTAMP:20260422T111000Z
DESCRIPTION;LANGUAGE=de:Hoffmanns Erzählungen: Der Dichter Hoffmann sitzt in einem Lokal und denkt an seine Geliebte Stella, die im nahegelegenen Opernhaus gerade in Mozarts Don Giovanni brilliert. An seiner Seite: sein enger Freund Nicklausse. Doch der Freund ist eigentlich die verkleidete Muse, und diese hat nur ein Ziel: Hoffmann von der unglücklichen Liebe ab- und zurück zur hehren Kunst zu bringen.

Volksoper Wien
Währingerstraße 78, 1090 Wien
i: www.volksoper.at
t: +43 1 51444-3670
e: office@volksoper.at

Ein Service von Kultur.net. http://www.simskultur.net
SUMMARY;LANGUAGE=de:Hoffmanns Erzählungen
PRIORITY:5
CLASS:PUBLIC
URL:https://kultur.net/volksoper-wien/programm/hoffmanns-erzaehlungen-2
STATUS:CONFIRMED
END:VEVENT
END:VCALENDAR
