BEGIN:VCALENDAR
PRODID:-//SIMsKultur.net//iCal Class MIMEDIR//EN
VERSION:2.0
METHOD:PUBLISH
BEGIN:VEVENT
DTSTART:20260515T220000Z
LOCATION;LANGUAGE=de:Zwickledt 7, 4783 Wernstein am Inn
TRANSP:OPAQUE
SEQUENCE:0
UID:5ff9094c36f512744e0e336ca4398168
DTSTAMP:20260425T212500Z
DESCRIPTION;LANGUAGE=de:Portraiture and Extension - Michaela Kessler: Michaela Kessler ist für ihre großformatigen Arbeiten bekannt, in denen sie formale Gebilde in Szene setzt, die an Körperlich-Organisches ebenso erinnern wie an sich ausbreitende, amorphe Massen. Durch die mediale Reduktion auf blauen Kugelschreiber entwickelt sie diese Formen ausschließlich aus dem Strich heraus und erreicht durch Verdichtungen den Eindruck von Plastizität und Räumlichkeit.

Kubin-Haus Zwickledt
Zwickledt 7, 4783 Wernstein am Inn
i: https://www.ooelkg.at/de/besucherinfo/kubin-haus-zwickledt.html
t: +43 7713 6603
e: kubinhaus@landesmuseum.at

Ein Service von Kultur.net. http://www.simskultur.net
SUMMARY;LANGUAGE=de:Portraiture and Extension - Michaela Kessler
PRIORITY:5
CLASS:PUBLIC
URL:https://kultur.net/kubin-haus-zwickledt/programm/portraiture-and-extension-michaela-kessler
STATUS:CONFIRMED
END:VEVENT
END:VCALENDAR
