BEGIN:VCALENDAR
PRODID:-//SIMsKultur.net//iCal Class MIMEDIR//EN
VERSION:2.0
METHOD:PUBLISH
BEGIN:VEVENT
DTSTART:20260903T220000Z
LOCATION;LANGUAGE=de:Samesleiten 15, 4490 St. Florian
TRANSP:OPAQUE
SEQUENCE:0
UID:6e5bdb5d2d5389e5320235a53a7008df
DTSTAMP:20260424T183800Z
DESCRIPTION;LANGUAGE=de:DIY - Do it yourself: 2026 widmet sich der Sumerauerhof unter dem Motto „Do It Yourself!“ mit zwei Ausstellungsschwerpunkten der Frage wie viel Gestaltungskraft in alltäglichen Handlungen stecken kann. Die Ausstellungen verbinden regionale Geschichte und Naturwissen mit aktuellen Themen wie Nachhaltigkeit, Eigeninitiative und Zukunftssinn.

Sumerauerhof St. Florian
Samesleiten 15, 4490 St. Florian
i: https://www.ooekultur.at/location-detail/sumerauerhof
t: +43 664 60072 523 91
e: SUMERAUERHOF@OOELKG.AT

Ein Service von Kultur.net. http://www.simskultur.net
SUMMARY;LANGUAGE=de:DIY - Do it yourself
PRIORITY:5
CLASS:PUBLIC
URL:https://kultur.net/sumerauerhof-st-florian/programm/diy-do-it-yourself
STATUS:CONFIRMED
END:VEVENT
END:VCALENDAR
