BEGIN:VCALENDAR
PRODID:-//SIMsKultur.net//iCal Class MIMEDIR//EN
VERSION:2.0
METHOD:PUBLISH
BEGIN:VEVENT
DTSTART:20260626T220000Z
LOCATION;LANGUAGE=de:Jainzen 1, 4820 Bad Ischl
TRANSP:OPAQUE
SEQUENCE:0
UID:fa1dc5a367e52087c428c5c591fde43c
DTSTAMP:20260425T134200Z
DESCRIPTION;LANGUAGE=de:Sommerfrische - Jakob Lena Knebl: Wie auch schon in vergangenen Projekten bedient sich Jakob Lena Knebl auch in Bad Ischl unterschiedlicher weiblicher Persönlichkeiten aus Geschichte, Religion und Mythologie, die sie im Kontext der Kunstgeschichte umsetzt und präsentiert. Im konkreten Fall wird sich Knebl unter anderem mit der biblischen Gestalt der Maria Magdalena aber auch mit einer mythologischen Figur der slawischen Folklore der Waldfrau Baba Jaga - auseinandersetzen.

Marmorschlössel in Bad Ischl
Jainzen 1, 4820 Bad Ischl
i: https://www.ooekultur.at/location-detail/marmorschl%C3%B6ssl-bad-ischl
t: +43 (0)664 60072 522 95
e: marmorschloessl@ooelkg.at

Ein Service von Kultur.net. http://www.simskultur.net
SUMMARY;LANGUAGE=de:Sommerfrische - Jakob Lena Knebl
PRIORITY:5
CLASS:PUBLIC
URL:https://kultur.net/marmorschloessel-in-bad-ischl/programm/sommerfrische-jakob-lena-knebl
STATUS:CONFIRMED
END:VEVENT
END:VCALENDAR
