BEGIN:VCALENDAR
PRODID:-//SIMsKultur.net//iCal Class MIMEDIR//EN
VERSION:2.0
METHOD:PUBLISH
BEGIN:VEVENT
DTSTART:20260821T220000Z
LOCATION;LANGUAGE=de:Ok Platz 1, 4020 Linz
TRANSP:OPAQUE
SEQUENCE:0
UID:ab3fd237778b552f50b8e740b89ce1f7
DTSTAMP:20260426T035800Z
DESCRIPTION;LANGUAGE=de:Pleas of Resistance - Carlos Motta: Politik der Sichtbarkeit - Carlos Motta (*1978, Kolumbien) ist ein multidisziplinärer Künstler, der in seinen Arbeiten soziale Strukturen und politische Kämpfe sexueller, geschlechtlicher und ethnischer Minderheiten untersucht. Durch Akte der Selbstrepräsentation hinterfragt er normative Diskurse und eröffnet Einblicke in bislang wenig beachtete Lebensrealitäten.

OK Linz
Ok Platz 1, 4020 Linz
i: https://www.ooekultur.at/location-detail/ok-linz
t:  +43 732 7720 52502
e: info@ooelkg.at

Ein Service von Kultur.net. http://www.simskultur.net
SUMMARY;LANGUAGE=de:Pleas of Resistance - Carlos Motta
PRIORITY:5
CLASS:PUBLIC
URL:https://kultur.net/ok-linz/programm/pleas-of-resistance-carlos-motta
STATUS:CONFIRMED
END:VEVENT
END:VCALENDAR
