BEGIN:VCALENDAR
PRODID:-//SIMsKultur.net//iCal Class MIMEDIR//EN
VERSION:2.0
METHOD:PUBLISH
BEGIN:VEVENT
DTSTART:20260723T220000Z
LOCATION;LANGUAGE=de:Ok Platz 1, 4020 Linz
TRANSP:OPAQUE
SEQUENCE:0
UID:b34ba8d46be2617ef151aad254568ffb
DTSTAMP:20260422T152500Z
DESCRIPTION;LANGUAGE=de:GLUMPERT - Peter Fellner: Nachhaltige Mode als Safe Space - In GLUMPERT verknüpft der österreichische Designer Peter Fellner nachhaltige Materialstrategien mit einer bewussten, queeren Symbolik. Aus gebrauchten Alltagsgegenständen wie Stickbildern, Häkeldeckchen, Tüchern und Regenschirmen schafft er Kleidungsstücke, deren Spuren sichtbar bleiben und eine erzählerische, identitätsstiftende Narration tragen.

OK Linz
Ok Platz 1, 4020 Linz
i: https://www.ooekultur.at/location-detail/ok-linz
t:  +43 732 7720 52502
e: info@ooelkg.at

Ein Service von Kultur.net. http://www.simskultur.net
SUMMARY;LANGUAGE=de:GLUMPERT - Peter Fellner
PRIORITY:5
CLASS:PUBLIC
URL:https://kultur.net/ok-linz/programm/glumpert-peter-fellner
STATUS:CONFIRMED
END:VEVENT
END:VCALENDAR
