BEGIN:VCALENDAR
PRODID:-//SIMsKultur.net//iCal Class MIMEDIR//EN
VERSION:2.0
METHOD:PUBLISH
BEGIN:VEVENT
DTSTART:20260509T220000Z
LOCATION;LANGUAGE=de:Museumstraße 14, 4020 Linz
TRANSP:OPAQUE
SEQUENCE:0
UID:b41d5fbd76d0664c3f8159c85f869f93
DTSTAMP:20260420T234600Z
DESCRIPTION;LANGUAGE=de:Some Secrets on Photography - Was Sie noch nicht über die Fotografie wussten: Als 1826 die erste Fotografie auf einer mit Asphalt beschichteten Zinn­platte acht Stunden lang belichtet wurde, konnte sich niemand vorstellen, wie selbst­verständlich die Fotografie für uns einmal sein würde. Und obwohl wir längt im postfotografischen Zeitalter angekommen sind, begleitet uns die leise Ahnung, dass noch nicht alle Geheimnisse rund um die Fotografie enthüllt sind.

Francisco Carolinum Linz
Museumstraße 14, 4020 Linz
i: https://www.ooelkg.at/de/standorte/landesgalerie-linz.html
t: +43 732 7720 522 00
e:  info@ooelkg.at 

Ein Service von Kultur.net. http://www.simskultur.net
SUMMARY;LANGUAGE=de:Some Secrets on Photography - Was Sie noch nicht über die Fotografie wussten
PRIORITY:5
CLASS:PUBLIC
URL:https://kultur.net/francisco-carolinum-linz/programm/some-secrets-on-photography-was-sie-noch-nicht-ueber-die-fotografi
STATUS:CONFIRMED
END:VEVENT
END:VCALENDAR
