BEGIN:VCALENDAR
PRODID:-//SIMsKultur.net//iCal Class MIMEDIR//EN
VERSION:2.0
METHOD:PUBLISH
BEGIN:VEVENT
DTSTART:20260801T161500Z
DTEND:20260801T171500Z
LOCATION;LANGUAGE=de:Hauptstraße 1A, 2404 Petronell-Carnuntum
TRANSP:OPAQUE
SEQUENCE:0
UID:57a2c3b7bdb6d0780e1c02e1b6199e5d
DTSTAMP:20260426T035800Z
DESCRIPTION;LANGUAGE=de:Römische Soirée 2026: Die Römische Soirée in Carnuntum ist Ihr Schlüssel zu einer einmaligen und exklusiven Reise in die antike Welt Carnuntums. Genießen Sie mit Ihren Liebsten einen unvergesslichen Sommerabend im Römischen Stadtviertel Carnuntums. Ganz egal ob Sie sich selbst mit einer Reise in die römische Antike beschenken oder einem besonderen Menschen damit eine Freude machen – dieser Abend in Carnuntum verspricht Unterhaltung und Gaumenfreuden auf allerhöchster Stufe.

Römisches Stadtviertel
Hauptstraße 1A, 2404 Petronell-Carnuntum
i: www.carnuntum.at
t: +43 2163 33770
e: roemerstadt@carnuntum.at

Ein Service von Kultur.net. http://www.simskultur.net
SUMMARY;LANGUAGE=de:Römische Soirée 2026
PRIORITY:5
CLASS:PUBLIC
URL:https://kultur.net/roemisches-stadtviertel/programm/roemische-soiree-2026
STATUS:CONFIRMED
END:VEVENT
END:VCALENDAR
