BEGIN:VCALENDAR
PRODID:-//SIMsKultur.net//iCal Class MIMEDIR//EN
VERSION:2.0
METHOD:PUBLISH
BEGIN:VEVENT
DTSTART:20260502T220000Z
LOCATION;LANGUAGE=de:Badgasse 40-46, 2405 Bad Deutsch Altenburg
TRANSP:OPAQUE
SEQUENCE:0
UID:8283f458f578347bf87b36f3cf470c38
DTSTAMP:20260425T212800Z
DESCRIPTION;LANGUAGE=de:Führungen Museum Carnuntinum 2026: Gehen Sie mit einem Kulturvermittler durch die römischen Straßen und die rekonstruierten Häuser und tauchen Sie ein in die aufregende Welt des antiken Carnuntums. Mit einer Führung erhalten Sie einmalige Einblicke in die Vergangenheit und erfahren faszinierende Geheimnisse aus der antiken Römerstadt.

Archäologisches Museum Carnuntinum
Badgasse 40-46, 2405 Bad Deutsch Altenburg
i: www.carnuntum.at
t: +43 2163 33770
e: roemerstadt@carnuntum.at

Ein Service von Kultur.net. http://www.simskultur.net
SUMMARY;LANGUAGE=de:Führungen Museum Carnuntinum 2026
PRIORITY:5
CLASS:PUBLIC
URL:https://kultur.net/archaeologisches-museum-carnuntinum/programm/fuehrungen-museum-carnuntinum-2026
STATUS:CONFIRMED
END:VEVENT
END:VCALENDAR
