BEGIN:VCALENDAR
PRODID:-//SIMsKultur.net//iCal Class MIMEDIR//EN
VERSION:2.0
METHOD:PUBLISH
BEGIN:VEVENT
DTSTART:20260613T220000Z
LOCATION;LANGUAGE=de:Hauptstraße 1A, 2404 Petronell-Carnuntum
TRANSP:OPAQUE
SEQUENCE:0
UID:78a38d2cf002c4f3b904eaa64cd710a7
DTSTAMP:20260426T040100Z
DESCRIPTION;LANGUAGE=de:Führungen Römisches Stadtviertel 2026: Gehen Sie mit einem Kulturvermittler durch die römischen Straßen und die rekonstruierten Häuser und tauchen Sie ein in die aufregende Welt des antiken Carnuntums. Mit einer Führung erhalten Sie einmalige Einblicke in die Vergangenheit und erfahren faszinierende Geheimnisse aus der antiken Römerstadt.

Römisches Stadtviertel
Hauptstraße 1A, 2404 Petronell-Carnuntum
i: www.carnuntum.at
t: +43 2163 33770
e: roemerstadt@carnuntum.at

Ein Service von Kultur.net. http://www.simskultur.net
SUMMARY;LANGUAGE=de:Führungen Römisches Stadtviertel 2026
PRIORITY:5
CLASS:PUBLIC
URL:https://kultur.net/roemisches-stadtviertel/programm/fuehrungen-roemisches-stadtviertel-2026
STATUS:CONFIRMED
END:VEVENT
END:VCALENDAR
