BEGIN:VCALENDAR
PRODID:-//SIMsKultur.net//iCal Class MIMEDIR//EN
VERSION:2.0
METHOD:PUBLISH
BEGIN:VEVENT
DTSTART:20260822T180000Z
DTEND:20260822T190000Z
LOCATION;LANGUAGE=de:Schulstraße 6, 7540 Güssing
TRANSP:OPAQUE
SEQUENCE:0
UID:1f1781b60516bd37a40b6c3560cb49b1
DTSTAMP:20260425T013400Z
DESCRIPTION;LANGUAGE=de:Wie im Himmel: Das Musical und der gleichnamige schwedische Film von Kay Pollak erzählen die Geschichte des Dirigenten Daniel Daréus, der nach einem Herzinfarkt in das Dorf seiner Kindheit zurückkehrt. Dort übernimmt er die Leitung des Kirchenchors und begeistert mit seinen eigenwilligen Methoden.

Kulturzentrum Güssing
Schulstraße 6, 7540 Güssing
i: www.bgld-kulturzentren.at
t: +43 3322 421460
e: guessing@bgld-kulturzentren.at

Ein Service von Kultur.net. http://www.simskultur.net
SUMMARY;LANGUAGE=de:Wie im Himmel
PRIORITY:5
CLASS:PUBLIC
URL:https://kultur.net/kulturzentrum-guessing/programm/wie-im-himmel
STATUS:CONFIRMED
END:VEVENT
END:VCALENDAR
