BEGIN:VCALENDAR
PRODID:-//SIMsKultur.net//iCal Class MIMEDIR//EN
VERSION:2.0
METHOD:PUBLISH
BEGIN:VEVENT
DTSTART:20260531T150000Z
DTEND:20260531T160000Z
LOCATION;LANGUAGE=de:Schulstraße 6, 7540 Güssing
TRANSP:OPAQUE
SEQUENCE:0
UID:04e068486f1d2045f23a836dec674e89
DTSTAMP:20260423T145400Z
DESCRIPTION;LANGUAGE=de:Rapunzel, lässt kein Haar herunter: Familienmusical - Sie ist es leid, im Turm festzusitzen und auf den Prinzen zu warten. Deshalb schneidet Rapunzel ihren Zopf kurzerhand selbst ab und beschließt, aus ihrem Gefängnis zu fliehen. Dabei fällt sie nur leider aus dem Fenster – und landet in unserer Welt. Wie findet sie sich in ihrem neuen Leben zurecht?

Kulturzentrum Güssing
Schulstraße 6, 7540 Güssing
i: www.bgld-kulturzentren.at
t: +43 3322 421460
e: guessing@bgld-kulturzentren.at

Ein Service von Kultur.net. http://www.simskultur.net
SUMMARY;LANGUAGE=de:Rapunzel, lässt kein Haar herunter
PRIORITY:5
CLASS:PUBLIC
URL:https://kultur.net/kulturzentrum-guessing/programm/rapunzel-laesst-kein-haar-herunter
STATUS:CONFIRMED
END:VEVENT
END:VCALENDAR
