BEGIN:VCALENDAR
PRODID:-//SIMsKultur.net//iCal Class MIMEDIR//EN
VERSION:2.0
METHOD:PUBLISH
BEGIN:VEVENT
DTSTART:20260815T220000Z
LOCATION;LANGUAGE=de:Schloss Schallaburg, 3382 Schallaburg
TRANSP:OPAQUE
SEQUENCE:0
UID:f5d8697564061051c7811c08316ffcdb
DTSTAMP:20260424T124000Z
DESCRIPTION;LANGUAGE=de:KunstWerkTage in Kooperation mit der WKNÖ: Kunsthandwerksmarkt auf der Schallaburg - Die KUNST WERK TAGE auf der Schallaburg finden in Kooperation mit der Wirtschaftskammer Niederösterreich im Frühling und im Sommer statt. Jeweils drei Tage lang stehen der Schlossgarten und die historische Schießstätte ganz im Zeichen von Kunst, Schmuck & Design.


Schloss Schallaburg
Schloss Schallaburg, 3382 Schallaburg
i: https://www.schallaburg.at
t: +43 2754 6317
e: office@schallaburg.at

Ein Service von Kultur.net. http://www.simskultur.net
SUMMARY;LANGUAGE=de:KunstWerkTage in Kooperation mit der WKNÖ
PRIORITY:5
CLASS:PUBLIC
URL:https://kultur.net/schloss-schallaburg/programm/kunstwerktage-in-kooperation-mit-der-wknoe
STATUS:CONFIRMED
END:VEVENT
END:VCALENDAR
