BEGIN:VCALENDAR
PRODID:-//SIMsKultur.net//iCal Class MIMEDIR//EN
VERSION:2.0
METHOD:PUBLISH
BEGIN:VEVENT
DTSTART:20260523T220000Z
LOCATION;LANGUAGE=de:Taborstrasse 3, 8385 Neuhaus am Klausenbach
TRANSP:OPAQUE
SEQUENCE:0
UID:fd7ad0b1ca01ff1c1447cd530e875b44
DTSTAMP:20260425T145600Z
DESCRIPTION;LANGUAGE=de:Der Himmel voller Farben: Eintritt frei - Ab Freitag, den 18. April wird Ihnen, passend zur Jahreszeit, eine prächtige Farbenwelt präsentiert. Kuratorin Petra Werkovits lädt heuer zur Frühlingsausstellung „Der Himmel voller Farben“, in der sich alles um die Leichtigkeit und Farbkraft des Frühlings dreht.

Schloss Tabor
Taborstrasse 3, 8385 Neuhaus am Klausenbach
i: https://www.schlosstabor.at/
t: +43 3329 43037
e: office@schlosstabor.at

Ein Service von Kultur.net. http://www.simskultur.net
SUMMARY;LANGUAGE=de:Der Himmel voller Farben
PRIORITY:5
CLASS:PUBLIC
URL:https://kultur.net/schloss-tabor/programm/der-himmel-voller-farben
STATUS:CONFIRMED
END:VEVENT
END:VCALENDAR
