BEGIN:VCALENDAR
PRODID:-//SIMsKultur.net//iCal Class MIMEDIR//EN
VERSION:2.0
METHOD:PUBLISH
BEGIN:VEVENT
DTSTART:20260718T220000Z
LOCATION;LANGUAGE=de:Prof. Martha Bolldorf-Platz 1, 7332 Kobersdorf
TRANSP:OPAQUE
SEQUENCE:0
UID:c11602bbb6db549f5af15e1d1a892964
DTSTAMP:20260422T010800Z
DESCRIPTION;LANGUAGE=de:Oldtimerfahrt 2026 - Mit Wolfgang Böck „on the road”: Sind Sie gerne mit alten Automobilen oder mit dem Motorrad unterwegs? Wenn ja: Dann teilen Sie eine Leidenschaft mit dem Intendanten der Schloss-Spiele Kobersdorf. Treffen Sie sich mit Wolfgang Böck und weiteren Gleichgesinnten zur gemeinsamen Theaterfahrt nach Kobersdorf!

Schloss Kobersdorf
Prof. Martha Bolldorf-Platz 1, 7332 Kobersdorf
i: http://www.schloss-kobersdorf.at
t: +43 2618 8200
e: kontakt@schloss-kobersdorf.at

Ein Service von Kultur.net. http://www.simskultur.net
SUMMARY;LANGUAGE=de:Oldtimerfahrt 2026 - Mit Wolfgang Böck „on the road”
PRIORITY:5
CLASS:PUBLIC
URL:https://kultur.net/schloss-kobersdorf/programm/oldtimerfahrt-2026-mit-wolfgang-boeck-on-the-road
STATUS:CONFIRMED
END:VEVENT
END:VCALENDAR
