BEGIN:VCALENDAR
PRODID:-//SIMsKultur.net//iCal Class MIMEDIR//EN
VERSION:2.0
METHOD:PUBLISH
BEGIN:VEVENT
DTSTART:20260912T173000Z
DTEND:20260912T183000Z
LOCATION;LANGUAGE=de:Gerersdorf 66c, 7542 Gerersdorf
TRANSP:OPAQUE
SEQUENCE:0
UID:c7663526ab8b6053b27cfa9adc80be4d
DTSTAMP:20260422T011200Z
DESCRIPTION;LANGUAGE=de:Martina Parker: "Comedy & Crime": Comedy trifft Crime - garantiert ohne Langeweile! Martina Parker versteht es, ihr Publikum bestens zu unterhalten. Denn sie selbst langweilt sich schnell und sorgt deshalb für einen kurzweiligen Abend.

Freilichtmuseum Ensemble Gerersdorf
Gerersdorf 66c, 7542 Gerersdorf
i: http://www.freilichtmuseum-gerersdorf.at
t: +43 3328 32255
e: freilichtmuseum.gerersdorf@aon.at

Ein Service von Kultur.net. http://www.simskultur.net
SUMMARY;LANGUAGE=de:Martina Parker: "Comedy & Crime"
PRIORITY:5
CLASS:PUBLIC
URL:https://kultur.net/freilichtmuseum-ensemble-gerersdorf/programm/martina-parker-comedy-crime
STATUS:CONFIRMED
END:VEVENT
END:VCALENDAR
