BEGIN:VCALENDAR
PRODID:-//SIMsKultur.net//iCal Class MIMEDIR//EN
VERSION:2.0
METHOD:PUBLISH
BEGIN:VEVENT
DTSTART:20260919T170000Z
DTEND:20260919T180000Z
LOCATION;LANGUAGE=de:Schulstraße 6, 7540 Güssing
TRANSP:OPAQUE
SEQUENCE:0
UID:6c89a3f0cc38c7e6ce96a50429cae395
DTSTAMP:20260420T041900Z
DESCRIPTION;LANGUAGE=de:Tarek Leitner: "AUGENBLICKE DER REPUBLIK": Ein persönlicher Streifzug durch die Geschichte Österreichs - Ein altes Foto, eine eingefangene Szene, ein Moment aus vergangenen Zeiten: Oft sind es Bilder, die uns von der Geschichte erzählen. Aber was passiert, wenn man hinter das Offensichtliche blickt, wenn man nicht nur ikonische Fotografien zu großen Ereignissen in den Blick nimmt?

Kulturzentrum Güssing
Schulstraße 6, 7540 Güssing
i: www.bgld-kulturzentren.at
t: +43 3322 421460
e: guessing@bgld-kulturzentren.at

Ein Service von Kultur.net. http://www.simskultur.net
SUMMARY;LANGUAGE=de:Tarek Leitner: "AUGENBLICKE DER REPUBLIK"
PRIORITY:5
CLASS:PUBLIC
URL:https://kultur.net/kulturzentrum-guessing/programm/tarek-leitner-augenblicke-der-republik
STATUS:CONFIRMED
END:VEVENT
END:VCALENDAR
