BEGIN:VCALENDAR
PRODID:-//SIMsKultur.net//iCal Class MIMEDIR//EN
VERSION:2.0
METHOD:PUBLISH
BEGIN:VEVENT
DTSTART:20260801T180000Z
DTEND:20260801T190000Z
LOCATION;LANGUAGE=de:Schulstraße 6, 7540 Güssing
TRANSP:OPAQUE
SEQUENCE:0
UID:27cdcb8ad9f05334d11078a05d714215
DTSTAMP:20260422T090900Z
DESCRIPTION;LANGUAGE=de:Andreas Vitásek: WIE ES MIR GEFÄLLT. Ein Jubiläumsprogramm. PREMIERE!: 70 Jahre auf der Welt und 45 Jahre auf der Bühne. Grund genug, sich neue Freiheiten zu erlauben. In seinem Jubiläumsprogramm “Wie es mir gefällt” spaziert Andreas Vitasek durch seine Programme, mischt Altbewährtes mit brandneuem Material, improvisiert, streut Theaterszenen ein und liest noch nie gespielte eigene Texte.

Kulturzentrum Güssing
Schulstraße 6, 7540 Güssing
i: www.bgld-kulturzentren.at
t: +43 3322 421460
e: guessing@bgld-kulturzentren.at

Ein Service von Kultur.net. http://www.simskultur.net
SUMMARY;LANGUAGE=de:Andreas Vitásek: WIE ES MIR GEFÄLLT. Ein Jubiläumsprogramm. PREMIERE!
PRIORITY:5
CLASS:PUBLIC
URL:https://kultur.net/kulturzentrum-guessing/programm/andreas-vitasek-wie-es-mir-gefaellt-ein-jubilaeumsprogramm-premiere
STATUS:CONFIRMED
END:VEVENT
END:VCALENDAR
