BEGIN:VCALENDAR
PRODID:-//SIMsKultur.net//iCal Class MIMEDIR//EN
VERSION:2.0
METHOD:PUBLISH
BEGIN:VEVENT
DTSTART:20260711T090000Z
DTEND:20260711T100000Z
LOCATION;LANGUAGE=de:Kultur-Kongresszentrum Eisenstadt, Franz-Schubert-Platz 6, 7000  Eisenstadt
TRANSP:OPAQUE
SEQUENCE:0
UID:52c4d83def0796836ef9e8e5300efcb7
DTSTAMP:20260422T040100Z
DESCRIPTION;LANGUAGE=de:Workshop | Cyanotypie: Cyanotypie oder auch Eisenblaudruck ist ein altes fotografisches Edeldruckverfahren. Dafür werden Papiere oder Textilien mit einer lichtempfindlichen Lösung beschichtet, die unter UV-Einwirkung den wasserunlöslichen Farbstoff Preußisch Blau bildet.

Landesgalerie Burgenland
Kultur-Kongresszentrum Eisenstadt, Franz-Schubert-Platz 6, 7000  Eisenstadt
i: https://landesgalerie-burgenland.at/
t:  +43 (0) 2682-719/5000 
e: office@landesgalerie-burgenland.at

Ein Service von Kultur.net. http://www.simskultur.net
SUMMARY;LANGUAGE=de:Workshop | Cyanotypie
PRIORITY:5
CLASS:PUBLIC
URL:https://kultur.net/landesgalerie-burgenland/programm/workshop-cyanotypie
STATUS:CONFIRMED
END:VEVENT
END:VCALENDAR
