BEGIN:VCALENDAR
PRODID:-//SIMsKultur.net//iCal Class MIMEDIR//EN
VERSION:2.0
METHOD:PUBLISH
BEGIN:VEVENT
DTSTART:20260815T090000Z
DTEND:20260815T100000Z
LOCATION;LANGUAGE=de:Kultur-Kongresszentrum Eisenstadt, Franz-Schubert-Platz 6, 7000  Eisenstadt
TRANSP:OPAQUE
SEQUENCE:0
UID:77b7679147af3d03e746c7ebf09365cd
DTSTAMP:20260425T193400Z
DESCRIPTION;LANGUAGE=de:Workshop | Emaillearbeiten: Emaillieren ist ein Verfahren, bei dem eine glasartige Schicht auf Metalloberflächen aufgebracht wird, um diese zu veredeln und zu schützen. Der Prozess beginnt mit der sorgfältigen Vorbereitung der Metalloberfläche. Anschließend wird spezielles Glaspulver durch verschiedene Methoden aufgetragen.

Landesgalerie Burgenland
Kultur-Kongresszentrum Eisenstadt, Franz-Schubert-Platz 6, 7000  Eisenstadt
i: https://landesgalerie-burgenland.at/
t:  +43 (0) 2682-719/5000 
e: office@landesgalerie-burgenland.at

Ein Service von Kultur.net. http://www.simskultur.net
SUMMARY;LANGUAGE=de:Workshop | Emaillearbeiten
PRIORITY:5
CLASS:PUBLIC
URL:https://kultur.net/landesgalerie-burgenland/programm/workshop-emaillearbeiten
STATUS:CONFIRMED
END:VEVENT
END:VCALENDAR
