BEGIN:VCALENDAR
PRODID:-//SIMsKultur.net//iCal Class MIMEDIR//EN
VERSION:2.0
METHOD:PUBLISH
BEGIN:VEVENT
DTSTART:20260629T220000Z
LOCATION;LANGUAGE=de:Kultur-Kongresszentrum Eisenstadt, Franz-Schubert-Platz 6, 7000  Eisenstadt
TRANSP:OPAQUE
SEQUENCE:0
UID:6dc925d3e59225bbebefa889703e5864
DTSTAMP:20260422T063800Z
DESCRIPTION;LANGUAGE=de:im Fokus: Margit Koppendorfer: Margit Koppendorfer ist eine freischaffende Kostümbildnerin, die seit 1987 an bedeutenden Schauspiel- und Opernhäusern im deutschsprachigen und internationalen Raum tätig ist. Nach Engagements am Schauspiel Frankfurt und am Schauspielhaus Hamburg arbeitete sie u. a. am Wiener Burgtheater, am Berliner Ensemble sowie an Bühnen in Köln, München und Düsseldorf und entwarf Kostüme für Opernproduktionen in Frankfurt, Leipzig, Lissabon und Zürich.

Landesgalerie Burgenland
Kultur-Kongresszentrum Eisenstadt, Franz-Schubert-Platz 6, 7000  Eisenstadt
i: https://landesgalerie-burgenland.at/
t:  +43 (0) 2682-719/5000 
e: office@landesgalerie-burgenland.at

Ein Service von Kultur.net. http://www.simskultur.net
SUMMARY;LANGUAGE=de:im Fokus: Margit Koppendorfer
PRIORITY:5
CLASS:PUBLIC
URL:https://kultur.net/landesgalerie-burgenland/programm/im-fokus-margit-koppendorfer
STATUS:CONFIRMED
END:VEVENT
END:VCALENDAR
