BEGIN:VCALENDAR
PRODID:-//SIMsKultur.net//iCal Class MIMEDIR//EN
VERSION:2.0
METHOD:PUBLISH
BEGIN:VEVENT
DTSTART:20260423T130000Z
DTEND:20260423T140000Z
LOCATION;LANGUAGE=de:Rochusplatz 1, 7461 Stadtschlaining
TRANSP:OPAQUE
SEQUENCE:0
UID:2295e7a6b249491fe78bf9ae9d165ef2
DTSTAMP:20260425T161500Z
DESCRIPTION;LANGUAGE=de:Führung: Die Burg für den Teufel: Diese spezielle Führung steht ganz im Zeichen des legendären Burgherrn und Ritters Andreas Baumkircher. Von seinen Anfängen als Söldnerführer über die Zeit als Burgherr bis hin zu seinem tragischen Ende hat diese schillernde Figur des Spätmittelalters deutliche Spuren hinterlassen.

Friedensburg Schlaining
Rochusplatz 1, 7461 Stadtschlaining
i: https://www.friedensburg.at/
t: +43 3355 2306
e: friedensburg@kultur-burgenland.at

Ein Service von Kultur.net. http://www.simskultur.net
SUMMARY;LANGUAGE=de:Führung: Die Burg für den Teufel
PRIORITY:5
CLASS:PUBLIC
URL:https://kultur.net/friedensburg-schlaining/programm/fuehrung-die-burg-fuer-den-teufel
STATUS:CONFIRMED
END:VEVENT
END:VCALENDAR
