BEGIN:VCALENDAR
PRODID:-//SIMsKultur.net//iCal Class MIMEDIR//EN
VERSION:2.0
METHOD:PUBLISH
BEGIN:VEVENT
DTSTART:20260617T220000Z
LOCATION;LANGUAGE=de:Bürgerspitalgasse (Osterwiese, hinter der Bank Burgenland), 7000 Eisenstadt
TRANSP:OPAQUE
SEQUENCE:0
UID:2fa90ebaa862e6ed2310714bb074b83a
DTSTAMP:20260423T145700Z
DESCRIPTION;LANGUAGE=de:Besichtigung Haydn-Kräutergarten: Anmerkung Haydn-Kräutergarten: Die kostenfreie Besichtigung des Kräutergartens findet nur bei Schönwetter statt. Als Joseph Haydn mit seiner Gattin Maria Anna Theresia nach Eisenstadt zog, erwarb er zusammen mit seinem Wohnhaus auch das „Kuchlgärtl beym oder hinter dem Spittal“.

Haydn-Kräutergarten
Bürgerspitalgasse (Osterwiese, hinter der Bank Burgenland), 7000 Eisenstadt
i: https://haydnhaus.at/
t: +43 2682 719-3900
e: office@haydnhaus.at

Ein Service von Kultur.net. http://www.simskultur.net
SUMMARY;LANGUAGE=de:Besichtigung Haydn-Kräutergarten
PRIORITY:5
CLASS:PUBLIC
URL:https://kultur.net/haydn-kraeutergarten/programm/besichtigung-haydn-kraeutergarten-0
STATUS:CONFIRMED
END:VEVENT
END:VCALENDAR
