BEGIN:VCALENDAR
PRODID:-//SIMsKultur.net//iCal Class MIMEDIR//EN
VERSION:2.0
METHOD:PUBLISH
BEGIN:VEVENT
DTSTART:20260827T083000Z
DTEND:20260827T093000Z
LOCATION;LANGUAGE=de:Joseph-Haydn-Gasse 19 & 21, 7000 Eisenstadt 
TRANSP:OPAQUE
SEQUENCE:0
UID:3da87944dfcce849de39781552c57830
DTSTAMP:20260423T184300Z
DESCRIPTION;LANGUAGE=de:A Haydn-Gaudi in den Sommerferien: Spannende Geschichten aus der Barockzeit  - Kinder lernen die Familie Haydn kennen und staunen über die Geschichten vom barocken Leben in Eisenstadt. Wie hat Meister Haydn gelebt? Wo hat er geschlafen und komponiert?

Haydn-Haus Eisenstadt
Joseph-Haydn-Gasse 19 & 21, 7000 Eisenstadt 
i: https://haydnhaus.at/
t: +43 2682 719-6000
e: office@haydnhaus.at

Ein Service von Kultur.net. http://www.simskultur.net
SUMMARY;LANGUAGE=de:A Haydn-Gaudi in den Sommerferien
PRIORITY:5
CLASS:PUBLIC
URL:https://kultur.net/haydn-haus-eisenstadt/programm/a-haydn-gaudi-in-den-sommerferien-0
STATUS:CONFIRMED
END:VEVENT
END:VCALENDAR
